BEGIN:VCALENDAR
VERSION:2.0
PRODID:-//Squarespace Inc/Squarespace 6//v6//EN
BEGIN:VEVENT
UID:5dec5857c8c6fd1d1c6a9952@squarespace.com
DTSTAMP:20200426T073909Z
DTSTART:20200809T050000Z
DTEND:20200809T070000Z
SUMMARY:Season 3 - Scottish   Fantasy   (CANCELLED)
END:VEVENT
END:VCALENDAR
