BEGIN:VCALENDAR
VERSION:2.0
PRODID:-//Squarespace Inc/Squarespace 6//v6//EN
BEGIN:VEVENT
UID:5dec5745e46e2d0693ab7f30@squarespace.com
DTSTAMP:20200426T073037Z
DTSTART:20200517T020000Z
DTEND:20200517T070000Z
SUMMARY:Special Event - 4MBS Festival of Classics Choral Spectacular (CANCE
 LLED)
END:VEVENT
END:VCALENDAR
