BEGIN:VCALENDAR
VERSION:2.0
PRODID:-//Squarespace Inc/Squarespace 6//v6//EN
BEGIN:VEVENT
UID:5f9387f41d206d227a555c09@squarespace.com
DTSTAMP:20201024T020535Z
DTSTART:20201121T083000Z
DTEND:20201121T100000Z
SUMMARY:Breaking the Silence
GEO:-27.468993;153.023494
LOCATION:Brisbane City Hall Auditorium
END:VEVENT
END:VCALENDAR
