BEGIN:VCALENDAR
VERSION:2.0
PRODID:-//Squarespace Inc/Squarespace 6//v6//EN
BEGIN:VEVENT
UID:5dec58e405aa792cf38eb5e6@squarespace.com
DTSTAMP:20200426T074001Z
DTSTART:20201108T050000Z
DTEND:20201108T070000Z
SUMMARY:Season 4 - Gala   Concert  (CANCELLED)
END:VEVENT
END:VCALENDAR
