BEGIN:VCALENDAR
VERSION:2.0
PRODID:-//Squarespace Inc/Squarespace 6//v6//EN
BEGIN:VEVENT
UID:5dec436e1704ea19200c16a2@squarespace.com
DTSTAMP:20200426T073713Z
DTSTART:20200503T050000Z
DTEND:20200503T070000Z
SUMMARY:Season 2 - Beethoven Pastoral Project (CANCELLED)
END:VEVENT
END:VCALENDAR
