BEGIN:VCALENDAR
VERSION:2.0
PRODID:-//Squarespace Inc/Squarespace 6//v6//EN
BEGIN:VEVENT
UID:6019f27fedb979210b192b2f@squarespace.com
DTSTAMP:20210214T014411Z
DTSTART:20210321T050000Z
DTEND:20210321T070000Z
SUMMARY:Exuberance &amp\; Passion 
GEO:-27.468943;153.023404
LOCATION:Brisbane City Hall\, 64 Adelaide Street\, Brisbane City\, QLD\, 40
 00\, Australia
END:VEVENT
END:VCALENDAR
