BEGIN:VCALENDAR
VERSION:2.0
PRODID:-//Squarespace Inc/Squarespace 6//v6//EN
BEGIN:VEVENT
UID:600bf08a872c446e5a0c663d@squarespace.com
DTSTAMP:20210214T014443Z
DTSTART:20210314T050000Z
DTEND:20210314T070000Z
SUMMARY:Exuberance &amp\; Passion
GEO:-26.690909;153.103837
LOCATION:Mountatin Creek State High School\, Lady Musgrave Drive\, Mountain 
 Creek\, QLD\, 4557\, Australia
END:VEVENT
END:VCALENDAR
