BEGIN:VCALENDAR
VERSION:2.0
PRODID:-//Squarespace Inc/Squarespace 6//v6//EN
BEGIN:VEVENT
UID:5a373c28f9619a424b7be678@squarespace.com
DTSTAMP:20180308T012614Z
DTSTART:20151128T050000Z
DTEND:20151129T060000Z
SUMMARY:BSO Season 5\, 2015 — At the Movies family concert
END:VEVENT
END:VCALENDAR
