BEGIN:VCALENDAR
VERSION:2.0
PRODID:-//Squarespace Inc/Squarespace 6//v6//EN
BEGIN:VEVENT
UID:5a3733a0e2c4836296b93a92@squarespace.com
DTSTAMP:20180308T011119Z
DTSTART:20160903T050000Z
DTEND:20160911T060000Z
SUMMARY:BSO Season 3\, 2016 — Lakes awake at dawn
END:VEVENT
END:VCALENDAR
