BEGIN:VCALENDAR
VERSION:2.0
PRODID:-//Squarespace Inc/Squarespace 6//v6//EN
BEGIN:VEVENT
UID:5a3734df71c10b467b3bc9e3@squarespace.com
DTSTAMP:20200401T095114Z
DTSTART:20161120T050000Z
DTEND:20161127T060000Z
SUMMARY:BSO Season 4\, 2016 — Family Fun Concert: Around the world
END:VEVENT
END:VCALENDAR
