BEGIN:VCALENDAR
VERSION:2.0
PRODID:-//Squarespace Inc/Squarespace 6//v6//EN
BEGIN:VEVENT
UID:5a37318bec212d303236923e@squarespace.com
DTSTAMP:20180308T012203Z
DTSTART:20160605T050000Z
DTEND:20160612T060000Z
SUMMARY:BSO Season 2\, 2016 — Tchaikovsky - 4MBS Festival
END:VEVENT
END:VCALENDAR
