BEGIN:VCALENDAR
VERSION:2.0
PRODID:-//Squarespace Inc/Squarespace 6//v6//EN
BEGIN:VEVENT
UID:5a3739398165f5e58aa43cd9@squarespace.com
DTSTAMP:20180308T015202Z
DTSTART:20150726T050000Z
DTEND:20150726T060000Z
SUMMARY:BSO Season 3\, 2015 — Noosa Long Week-end
END:VEVENT
END:VCALENDAR
