BEGIN:VCALENDAR
VERSION:2.0
PRODID:-//Squarespace Inc/Squarespace 6//v6//EN
BEGIN:VEVENT
UID:5a3737c6f9619a424b7b530c@squarespace.com
DTSTAMP:20180308T013912Z
DTSTART:20150524T050000Z
DTEND:20150531T060000Z
SUMMARY:BSO Season 2\, 2015 — Viennese Concert
END:VEVENT
END:VCALENDAR
