BEGIN:VCALENDAR
VERSION:2.0
PRODID:-//Squarespace Inc/Squarespace 6//v6//EN
BEGIN:VEVENT
UID:5a373624652dea7bc21cc112@squarespace.com
DTSTAMP:20180308T014137Z
DTSTART:20150322T050000Z
DTEND:20150329T060000Z
SUMMARY:BSO Season 1\, 2015 — All Beethoven Concert
END:VEVENT
END:VCALENDAR
