BEGIN:VCALENDAR
VERSION:2.0
PRODID:-//Squarespace Inc/Squarespace 6//v6//EN
BEGIN:VEVENT
UID:5a373a5a41920241eba9da72@squarespace.com
DTSTAMP:20180308T012957Z
DTSTART:20150906T050000Z
DTEND:20150906T070000Z
SUMMARY:BSO Season 4\, 2015 — Mahler Symphony No. 2 Resurrection
GEO:-27.469345;153.02388
LOCATION:Brisbane City Hall\, 64 Adelaide Street\, Brisbane City\, QLD\, 40
 00\, Australia
END:VEVENT
END:VCALENDAR
