BEGIN:VCALENDAR
VERSION:2.0
PRODID:-//Squarespace Inc/Squarespace 6//v6//EN
BEGIN:VEVENT
UID:5a3741ed8165f5e58aa55656@squarespace.com
DTSTAMP:20180308T015549Z
DTSTART:20140914T050000Z
DTEND:20140921T070000Z
SUMMARY:BSO Season 3\, 2014 — Recharge
END:VEVENT
END:VCALENDAR
