BEGIN:VCALENDAR
VERSION:2.0
PRODID:-//Squarespace Inc/Squarespace 6//v6//EN
BEGIN:VEVENT
UID:5a3743d0c830258ccbc50f38@squarespace.com
DTSTAMP:20200401T100311Z
DTSTART:20141123T050000Z
DTEND:20141130T070000Z
SUMMARY:Season 4\, 2014 — Children Concert: Overtures to Pirates and Prince
 sses
END:VEVENT
END:VCALENDAR
