BEGIN:VCALENDAR
VERSION:2.0
PRODID:-//Squarespace Inc/Squarespace 6//v6//EN
BEGIN:VEVENT
UID:5a375096652dea7bc2201306@squarespace.com
DTSTAMP:20180308T020229Z
DTSTART:20131201T200000Z
DTEND:20131201T220000Z
SUMMARY:BSO Season 5\, 2013 — The Emperor and Scheherazade
GEO:-27.487827;152.987863
LOCATION:Brisbane Boys' College\, Kensington Terrace Auditorium\, Toowong\, 
 Australia
END:VEVENT
END:VCALENDAR
