BEGIN:VCALENDAR
VERSION:2.0
PRODID:-//Squarespace Inc/Squarespace 6//v6//EN
BEGIN:VEVENT
UID:5a3750438165f5e58aa7166f@squarespace.com
DTSTAMP:20180308T020541Z
DTSTART:20130901T050000Z
DTEND:20130908T070000Z
SUMMARY:BSO Season 4\, 2013 — Horns and Toreados
END:VEVENT
END:VCALENDAR
