BEGIN:VCALENDAR
VERSION:2.0
PRODID:-//Squarespace Inc/Squarespace 6//v6//EN
BEGIN:VEVENT
UID:5a375a96c830258ccbc7a8b1@squarespace.com
DTSTAMP:20180308T033925Z
DTSTART:20111120T050000Z
DTEND:20111127T070000Z
SUMMARY:BSO Season 5\, 2011 — Jacaranda Season
END:VEVENT
END:VCALENDAR
