BEGIN:VCALENDAR
VERSION:2.0
PRODID:-//Squarespace Inc/Squarespace 6//v6//EN
BEGIN:VEVENT
UID:5a37564ee4966b79a0d49b44@squarespace.com
DTSTAMP:20180308T021440Z
DTSTART:20121118T050000Z
DTEND:20121128T070000Z
SUMMARY:BSO Season 5\, 2012 — Salt of the Earth
GEO:-26.699;153.101
LOCATION:Mountain Creek Community Centre\, Mountain Creek\, QLD\, Australia
END:VEVENT
END:VCALENDAR
