BEGIN:VCALENDAR
VERSION:2.0
PRODID:-//Squarespace Inc/Squarespace 6//v6//EN
BEGIN:VEVENT
UID:5a3754a7085229e36d072675@squarespace.com
DTSTAMP:20180308T022043Z
DTSTART:20120909T050000Z
DTEND:20120909T070000Z
SUMMARY:BSO Season 4\, 2012 — New World\, New Music
GEO:-27.248364;153.082552
LOCATION:Clontarf Beach State High School\, Elizabeth Avenue\, Clontarf\, Q
 LD\, 4019\, Australia
END:VEVENT
END:VCALENDAR
