BEGIN:VCALENDAR
VERSION:2.0
PRODID:-//Squarespace Inc/Squarespace 6//v6//EN
BEGIN:VEVENT
UID:5a37540c8165f5e58aa77b37@squarespace.com
DTSTAMP:20180308T032717Z
DTSTART:20120715T190000Z
DTEND:20120715T210000Z
SUMMARY:BSO Season 3\, 2012 — Bribie Island Chamber Music Festival
END:VEVENT
END:VCALENDAR
