BEGIN:VCALENDAR
VERSION:2.0
PRODID:-//Squarespace Inc/Squarespace 6//v6//EN
BEGIN:VEVENT
UID:5a374e7c652dea7bc21fd4a6@squarespace.com
DTSTAMP:20180308T020801Z
DTSTART:20130714T050000Z
DTEND:20130714T070000Z
SUMMARY:BSO Season 3\, 2013 — Bribie Island Chamber Music Festival
END:VEVENT
END:VCALENDAR
