BEGIN:VCALENDAR
VERSION:2.0
PRODID:-//Squarespace Inc/Squarespace 6//v6//EN
BEGIN:VEVENT
UID:5a374db5085229e36d066418@squarespace.com
DTSTAMP:20180308T020843Z
DTSTART:20130526T190000Z
DTEND:20130526T210000Z
SUMMARY:BSO Season 2\, 2013 — 4MBS Festival of Classics
END:VEVENT
END:VCALENDAR
