BEGIN:VCALENDAR
VERSION:2.0
PRODID:-//Squarespace Inc/Squarespace 6//v6//EN
BEGIN:VEVENT
UID:5a37524353450a165100edf4@squarespace.com
DTSTAMP:20200401T095638Z
DTSTART:20120311T050000Z
DTEND:20120318T070000Z
SUMMARY:Season 1\, 2012 — Children's Concert "Witches\, Wizards\, and Warlo
 cks"
END:VEVENT
END:VCALENDAR
