BEGIN:VCALENDAR
VERSION:2.0
PRODID:-//Squarespace Inc/Squarespace 6//v6//EN
BEGIN:VEVENT
UID:5a375f5ce4966b79a0d57980@squarespace.com
DTSTAMP:20171218T063128Z
DTSTART:20100725T190000Z
DTEND:20100725T210000Z
SUMMARY:BSO Season 4\, 2010 — Brisbane Festival
END:VEVENT
END:VCALENDAR
