BEGIN:VCALENDAR
VERSION:2.0
PRODID:-//Squarespace Inc/Squarespace 6//v6//EN
BEGIN:VEVENT
UID:5a375a5241920241ebad9493@squarespace.com
DTSTAMP:20171218T062347Z
DTSTART:20110626T190000Z
DTEND:20110626T210000Z
SUMMARY:BSO Season 4\, 2011 — Brisbane Festival
END:VEVENT
END:VCALENDAR
