BEGIN:VCALENDAR
VERSION:2.0
PRODID:-//Squarespace Inc/Squarespace 6//v6//EN
BEGIN:VEVENT
UID:5a375cee085229e36d07fb31@squarespace.com
DTSTAMP:20180308T040114Z
DTSTART:20100515T183000Z
DTEND:20100517T203000Z
SUMMARY:BSO Season 2\, 2010 — Various
END:VEVENT
END:VCALENDAR
