BEGIN:VCALENDAR
VERSION:2.0
PRODID:-//Squarespace Inc/Squarespace 6//v6//EN
BEGIN:VEVENT
UID:5a375dc2652dea7bc221693b@squarespace.com
DTSTAMP:20180308T040719Z
DTSTART:20100307T050000Z
DTEND:20100314T070000Z
SUMMARY:BSO Season 1\, 2010 — Various
END:VEVENT
END:VCALENDAR
