BEGIN:VCALENDAR
VERSION:2.0
PRODID:-//Squarespace Inc/Squarespace 6//v6//EN
BEGIN:VEVENT
UID:5a375bf09140b7643705fcbc@squarespace.com
DTSTAMP:20180308T040920Z
DTSTART:20100124T050000Z
DTEND:20100124T070000Z
SUMMARY:BSO Pre-Season\, 2010 — Entrance of the Gladiators 
END:VEVENT
END:VCALENDAR
