BEGIN:VCALENDAR
VERSION:2.0
PRODID:-//Squarespace Inc/Squarespace 6//v6//EN
BEGIN:VEVENT
UID:5a37606453450a16510254a3@squarespace.com
DTSTAMP:20180308T035528Z
DTSTART:20101121T050000Z
DTEND:20101128T070000Z
SUMMARY:BSO Season 5\, 2010 — Various
END:VEVENT
END:VCALENDAR
