BEGIN:VCALENDAR
VERSION:2.0
PRODID:-//Squarespace Inc/Squarespace 6//v6//EN
BEGIN:VEVENT
UID:5a375f9b652dea7bc2219597@squarespace.com
DTSTAMP:20171218T063051Z
DTSTART:20101128T200000Z
DTEND:20101128T220000Z
SUMMARY:BSO Season 5\, 2010 — Various
GEO:-26.74231;153.127562
LOCATION:Sun Coast Lake Kawana Community Centre\, Sportsman Parade\, Bokari
 na\, QLD\, 4575\, Australia
END:VEVENT
END:VCALENDAR
