BEGIN:VCALENDAR
VERSION:2.0
PRODID:-//Squarespace Inc/Squarespace 6//v6//EN
BEGIN:VEVENT
UID:5a37576724a6949ae30b2fd5@squarespace.com
DTSTAMP:20180308T034649Z
DTSTART:20110626T190000Z
DTEND:20110626T210000Z
SUMMARY:BSO Season 3\, 2011 — Chamber Music Concert
END:VEVENT
END:VCALENDAR
