BEGIN:VCALENDAR
VERSION:2.0
PRODID:-//Squarespace Inc/Squarespace 6//v6//EN
BEGIN:VEVENT
UID:5a3753368165f5e58aa76516@squarespace.com
DTSTAMP:20180308T033214Z
DTSTART:20120520T050000Z
DTEND:20120527T070000Z
SUMMARY:BSO Season 2\, 2012 — Seascapes
GEO:-27.476882;153.020828
LOCATION:Queensland Conservatorium\, S01\, 140 Grey St\, South Brisbane\, Q
 LD 4101\, Australia
END:VEVENT
END:VCALENDAR
