BEGIN:VCALENDAR
VERSION:2.0
PRODID:-//Squarespace Inc/Squarespace 6//v6//EN
BEGIN:VEVENT
UID:5a374c0e652dea7bc21f8ad9@squarespace.com
DTSTAMP:20180308T021146Z
DTSTART:20130311T050000Z
DTEND:20130318T070000Z
SUMMARY:BSO Season 1\, 2013 — Children's Concert "Storytime"
END:VEVENT
END:VCALENDAR
