BEGIN:VCALENDAR
VERSION:2.0
PRODID:-//Squarespace Inc/Squarespace 6//v6//EN
BEGIN:VEVENT
UID:5a37424e8165f5e58aa5625b@squarespace.com
DTSTAMP:20180308T020207Z
DTSTART:20140504T190000Z
DTEND:20140504T210000Z
SUMMARY:BSO Season 1\, 2014 — Elgar Dream of Gerontius
GEO:-27.456226;153.037258
LOCATION:City Hall\, Ann Street\, Fortitude Valley\, QLD\, 4006\, Australia
END:VEVENT
END:VCALENDAR
