BEGIN:VCALENDAR
VERSION:2.0
PRODID:-//Squarespace Inc/Squarespace 6//v6//EN
BEGIN:VEVENT
UID:5a373fb3c830258ccbc48aca@squarespace.com
DTSTAMP:20180308T040955Z
DTSTART:20140622T050000Z
DTEND:20140629T070000Z
SUMMARY:BSO Season 2\, 2014 — Chamber Concert
END:VEVENT
END:VCALENDAR
