BEGIN:VCALENDAR
VERSION:2.0
PRODID:-//Squarespace Inc/Squarespace 6//v6//EN
BEGIN:VEVENT
UID:5a371ca241920241eba5b065@squarespace.com
DTSTAMP:20180308T003751Z
DTSTART:20170910T050000Z
DTEND:20170917T060000Z
SUMMARY:BSO Season 2\, 2017 — Mozart to Mahler
END:VEVENT
END:VCALENDAR
