BEGIN:VCALENDAR
VERSION:2.0
PRODID:-//Squarespace Inc/Squarespace 6//v6//EN
BEGIN:VEVENT
UID:5a3719d171c10b467b383314@squarespace.com
DTSTAMP:20180308T011800Z
DTSTART:20170521T050000Z
DTEND:20170528T070000Z
SUMMARY:BSO Season 1\, 2017 — Holst The Planets\, Walton Belshazzar’s Feast
END:VEVENT
END:VCALENDAR
