BEGIN:VCALENDAR
VERSION:2.0
PRODID:-//Squarespace Inc/Squarespace 6//v6//EN
BEGIN:VEVENT
UID:5a14e9a1652dea2e1aa36d25@squarespace.com
DTSTAMP:20181016T020321Z
DTSTART:20171119T050000Z
DTEND:20171126T060000Z
SUMMARY:BSO Season 3\, 2017 — Divine Dvorak
END:VEVENT
END:VCALENDAR
