BEGIN:VCALENDAR
VERSION:2.0
PRODID:-//Squarespace Inc/Squarespace 6//v6//EN
BEGIN:VEVENT
UID:5bc54476e2c483f6ec58a9b4@squarespace.com
DTSTAMP:20200222T034211Z
DTSTART:20180812T050000Z
DTEND:20180819T050000Z
SUMMARY:BSO Season 3\, 2018-  FROM RUSSIA WITH LOVE
END:VEVENT
END:VCALENDAR
