BEGIN:VCALENDAR
VERSION:2.0
PRODID:-//Squarespace Inc/Squarespace 6//v6//EN
BEGIN:VEVENT
UID:5bc53fee53450aea0d41e59f@squarespace.com
DTSTAMP:20181016T023216Z
DTSTART:20180520T050000Z
DTEND:20180520T070000Z
SUMMARY:BSO Season 2\, 2018 — JOYS &amp\; SORROWS
END:VEVENT
END:VCALENDAR
