BEGIN:VCALENDAR
VERSION:2.0
PRODID:-//Squarespace Inc/Squarespace 6//v6//EN
BEGIN:VEVENT
UID:5e509b7e9fa7880e2a1480c8@squarespace.com
DTSTAMP:20200401T112322Z
DTSTART:20181111T050000Z
DTEND:20181111T070000Z
SUMMARY:BSO 2018 Season 4 - The Armed Man (A Mass for Peace)
END:VEVENT
END:VCALENDAR
