BEGIN:VCALENDAR
VERSION:2.0
PRODID:-//Squarespace Inc/Squarespace 6//v6//EN
BEGIN:VEVENT
UID:5c99739efa0d605d2b98799f@squarespace.com
DTSTAMP:20200401T111616Z
DTSTART:19900101T000000Z
DTEND:20101206T020000Z
SUMMARY:A complete list of our early concerts (1990 - 2010)
END:VEVENT
END:VCALENDAR
