BEGIN:VCALENDAR
VERSION:2.0
PRODID:-//Squarespace Inc/Squarespace 6//v6//EN
BEGIN:VEVENT
UID:5e509f22b9df9733ccd42aee@squarespace.com
DTSTAMP:20200401T091152Z
DTSTART:20190518T030000Z
DTEND:20190518T053000Z
SUMMARY:BSO 2019 Season 2 -  Elijah
END:VEVENT
END:VCALENDAR
