BEGIN:VCALENDAR
VERSION:2.0
PRODID:-//Squarespace Inc/Squarespace 6//v6//EN
BEGIN:VEVENT
UID:5e50a201cd15995a4e689bfb@squarespace.com
DTSTAMP:20200222T040327Z
DTSTART:20190804T050000Z
DTEND:20190804T070000Z
SUMMARY:BSO 2019 Season 3 - Rising Talent
END:VEVENT
END:VCALENDAR
